BEGIN:VCALENDAR
VERSION:2.0
PRODID:-//eventon.com NONSGML v1.0//EN
CALSCALE:GREGORIAN
METHOD:PUBLISH
BEGIN:VEVENT
UID:69e60fa17e007
DTSTAMP:20260420T113601Z
DTSTART:20250521T100000Z
DTEND:20250521T235000Z
LOCATION:
SUMMARY:National Simultaneous Storytime 2025
DESCRIPTION:\nhttps://kalsota.wa.edu.au/events/national-simultaneous-storyt
 ime-2025/
URL:https://kalsota.wa.edu.au/events/national-simultaneous-storytime-2025/
END:VEVENT
END:VCALENDAR